Workbook

Sheet ==DUCK by BLIND==
A1: DATE | B1: B1 | C1: B2 | D1: B3 | E1: B4 | F1: B5 | G1: C1 | H1: C2 | I1: C3 | J1: C4 | K1: F1 | L1: F2 | M1: H1 | N1: I1 | O1: J1 | P1: J2 | Q1: 01 | R1: 02 | S1: 03 | T1: 04 | U1: 12 | V1: 13 | W1: 14 | X1: 15 | Y1: 16 | Z1: 17 | AA1: 18 | AB1: 19 | AC1: 20 | AD1: 21 | AE1: 22 | AF1: 40 | AG1: 41 | AH1: 42 | AI1: 43 | AJ1: 44 | AK1: 45 | AL1: 46 | AM1: 47 | AN1: 48 | AO1: 49 | AP1: 50 | AQ1: 60 | AR1: 61 | AS1: TOTAL
A2: 41923 | D2: 4 | E2: 0 | H2: 1 | I2: 9 | L2: 0 | M2: 9 | N2: 14 | O2: 8 | P2: 3 | Q2: 3 | R2: 12 | S2: 28 | T2: 0 | U2: 11 | V2: 1 | W2: 8 | X2: 0 | AI2: 0 | AL2: 5 | AS2: =SUM(B2:AR2) -> 116
A3: 41924 | L3: 1 | M3: 5 | N3: 1 | O3: 0 | Q3: 4 | R3: 2 | S3: 3 | U3: 10 | W3: 6 | X3: 2 | AD3: 0 | AI3: 0 | AS3: =SUM(B3:AR3) -> 34 | AV3: Not Hunted
A4: 41927 | F4: 4 | I4: 13 | M4: 7 | N4: 4 | Q4: 6 | R4: 0 | S4: 25 | U4: 7 | W4: 3 | AS4: =SUM(B4:AR4) -> 69
A5: 41930 | D5: 0 | I5: 3 | K5: 3 | M5: 3 | N5: 2 | O5: 0 | Q5: 1 | R5: 6 | S5: 7 | U5: 1 | W5: 2 | AI5: 0 | AL5: 0 | AM5: 0 | AS5: =SUM(B5:AR5) -> 28 | AV5: Youth Hunt
A6: 41931 | D6: 2 | F6: 0 | I6: 2 | N6: 0 | R6: 8 | S6: 10 | U6: 2 | W6: 2 | X6: 0 | AL6: 0 | AM6: 0 | AS6: =SUM(B6:AR6) -> 26
A7: 41934 | I7: 0 | K7: 10 | N7: 2 | R7: 4 | S7: 3 | U7: 0 | W7: 5 | X7: 0 | AS7: =SUM(B7:AR7) -> 24
A8: 41937 | D8: 3 | I8: 2 | N8: 12 | Q8: 0 | R8: 6 | S8: 12 | U8: 2 | W8: 6 | AL8: 2 | AM8: 0 | AS8: =SUM(B8:AR8) -> 45
A9: 41938 | K9: 4 | N9: 7 | O9: 4 | Q9: 2 | R9: 10 | S9: 14 | U9: 7 | W9: 3 | X9: 0 | AG9: 4 | AH9: 0 | AL9: 0 | AM9: 0 | AS9: =SUM(B9:AR9) -> 55
A10: 41941 | H10: 7 | K10: 3 | N10: 16 | R10: 1 | S10: 11 | U10: 1 | AS10: =SUM(B10:AR10) -> 39
A11: 41944 | D11: 13 | E11: 10 | F11: 8 | H11: 6 | I11: 7 | K11: 30 | L11: 2 | M11: 13 | N11: 1 | O11: 4 | P11: 0 | Q11: 0 | R11: 15 | S11: 21 | U11: 2 | W11: 0 | AS11: =SUM(B11:AR11) -> 132
A12: 41945 | C12: 2 | D12: 2 | E12: 2 | F12: 3 | H12: 6 | I12: 4 | K12: 4 | L12: 3 | M12: 5 | N12: 3 | O12: 2 | R12: 7 | S12: 8 | U12: 10 | AS12: =SUM(B12:AR12) -> 61
A13: 41948 | C13: 4 | D13: 8 | E13: 9 | I13: 13 | J13: 0 | K13: 7 | M13: 5 | N13: 2 | R13: 6 | S13: 9 | U13: 5 | W13: 1 | X13: 1 | AB13: 0 | AI13: 0 | AL13: 0 | AM13: 0 | AO13: 0 | AS13: =SUM(B13:AR13) -> 70
A14: 41951 | D14: 3 | E14: 3 | F14: 2 | I14: 4 | K14: 7 | R14: 1 | S14: 14 | AL14: 0 | AS14: =SUM(B14:AR14) -> 34
A15: 41952 | B15: 4 | C15: 5 | D15: 3 | E15: 2 | F15: 1 | H15: 0 | I15: 2 | K15: 0 | L15: 0 | M15: 3 | N15: 2 | O15: 5 | R15: 13 | S15: 21 | U15: 0 | AH15: 0 | AI15: 7 | AL15: 0 | AS15: =SUM(B15:AR15) -> 68
A16: 41955 | D16: 14 | E16: 10 | F16: 21 | H16: 8 | I16: 11 | K16: 15 | L16: 1 | N16: 5 | O16: 10 | R16: 3 | S16: 27 | X16: 21 | AG16: 0 | AH16: 7 | AI16: 0 | AL16: 4 | AM16: 14 | AO16: 0 | AS16: =SUM(B16:AR16) -> 171
A17: 41958 | F17: 14 | H17: 3 | I17: 11 | N17: 2 | O17: 13 | Q17: 16 | R17: 23 | S17: 42 | U17: 21 | V17: 14 | W17: 21 | X17: 19 | AD17: 21 | AF17: 12 | AG17: 16 | AH17: 21 | AI17: 5 | AL17: 5 | AM17: 12 | AN17: 6 | AO17: 1 | AP17: 3 | AS17: =SUM(B17:AR17) -> 301
A18: 41959 | F18: 10 | N18: 2 | Q18: 7 | R18: 15 | S18: 21 | U18: 8 | W18: 1 | X18: 0 | Y18: 2 | AC18: 9 | AD18: 18 | AG18: 6 | AH18: 0 | AL18: 7 | AM18: 0 | AP18: 14 | AS18: =SUM(B18:AR18) -> 120
A19: 41962 | F19: 0 | N19: 3 | Q19: 8 | R19: 35 | S19: 27 | U19: 3 | W19: 14 | X19: 4 | Z19: 0 | AC19: 3 | AD19: 2 | AE19: 2 | AF19: 14 | AG19: 0 | AH19: 21 | AI19: 7 | AL19: 2 | AM19: 2 | AO19: 2 | AS19: =SUM(B19:AR19) -> 149
A20: 41965 | C20: 0 | D20: 7 | E20: 4 | F20: 13 | I20: 1 | N20: 2 | Q20: 11 | R20: 14 | S20: 31 | U20: 21 | V20: 7 | W20: 21 | X20: 15 | Y20: 0 | Z20: 0 | AB20: 3 | AD20: 2 | AF20: 0 | AG20: 0 | AH20: 8 | AL20: 0 | AM20: 0 | AS20: =SUM(B20:AR20) -> 160
A21: 41966 | C21: 0 | D21: 4 | E21: 2 | F21: 12 | I21: 13 | K21: 8 | N21: 1 | Q21: 21 | R21: 18 | S21: 28 | U21: 4 | W21: 21 | X21: 0 | AD21: 0 | AG21: 1 | AH21: 0 | AI21: 0 | AS21: =SUM(B21:AR21) -> 133
A22: 41969 | B22: 0 | C22: 2 | D22: 14 | E22: 6 | F22: 4 | H22: 1 | I22: 3 | J22: 8 | K22: 3 | L22: 0 | N22: 1 | O22: 0 | P22: 0 | Q22: 1 | R22: 18 | S22: 2 | V22: 1 | W22: 0 | X22: 19 | Y22: 1 | AD22: 0 | AG22: 0 | AH22: 0 | AL22: 0 | AM22: 0 | AO22: 0 | AS22: =SUM(B22:AR22) -> 84
A23: 41970 | B23: 0 | C23: 1 | D23: 4 | E23: 1 | F23: 6 | H23: 5 | I23: 4 | J23: 7 | K23: 2 | N23: 3 | R23: 5 | S23: 11 | X23: 1 | AS23: =SUM(B23:AR23) -> 50
A24: 41972 | C24: 2 | D24: 13 | E24: 9 | F24: 4 | H24: 5 | I24: 1 | J24: 7 | K24: 2 | N24: 0 | O24: 1 | P24: 0 | R24: 5 | S24: 9 | U24: 9 | W24: 7 | X24: 14 | AC24: 1 | AG24: 0 | AH24: 0 | AI24: 2 | AL24: 2 | AM24: 0 | AO24: 0 | AS24: =SUM(B24:AR24) -> 93
A25: 41973 | D25: 1 | E25: 2 | F25: 3 | I25: 0 | J25: 0 | K25: 11 | N25: 0 | R25: 5 | S25: 12 | U25: 2 | W25: 1 | X25: 3 | AM25: 0 | AS25: =SUM(B25:AR25) -> 40
A26: 41976 | E26: 0 | H26: 1 | N26: 5 | Q26: 0 | R26: 9 | S26: 13 | U26: 3 | W26: 5 | X26: 5 | Z26: 2 | AD26: 0 | AG26: 0 | AH26: 0 | AI26: 0 | AM26: 1 | AO26: 0 | AS26: =SUM(B26:AR26) -> 44
A27: 41979 | C27: 7 | D27: 6 | E27: 5 | F27: 3 | H27: 0 | I27: 6 | J27: 0 | K27: 0 | N27: 0 | Q27: 2 | R27: 2 | S27: 3 | U27: 25 | V27: 0 | W27: 19 | X27: 11 | Z27: 0 | AC27: 3 | AD27: 2 | AE27: 3 | AG27: 2 | AP27: 0 | AS27: =SUM(B27:AR27) -> 99
A28: 41980 | D28: 2 | K28: 2 | N28: 1 | Q28: 1 | R28: 0 | S28: 24 | U28: 13 | W28: 4 | X28: 6 | AC28: 2 | AE28: 3 | AI28: 0 | AS28: =SUM(B28:AR28) -> 58
A29: 41983 | C29: 18 | D29: 6 | E29: 8 | F29: 2 | I29: 2 | J29: 2 | K29: 7 | R29: 9 | S29: 19 | U29: 2 | W29: 1 | X29: 0 | Z29: 1 | AD29: 8 | AH29: 0 | AI29: 1 | AL29: 0 | AM29: 0 | AS29: =SUM(B29:AR29) -> 86
A30: 41986 | B30: 0 | C30: 21 | D30: 14 | E30: 10 | F30: 11 | H30: 3 | I30: 7 | J30: 17 | K30: 14 | M30: 0 | N30: 0 | O30: 0 | R30: 2 | S30: 3 | T30: 0 | U30: 13 | V30: 0 | W30: 16 | X30: 4 | AC30: 2 | AD30: 1 | AE30: 2 | AI30: 0 | AS30: =SUM(B30:AR30) -> 140
A31: 41987 | C31: 22 | D31: 18 | F31: 14 | I31: 12 | J31: 8 | S31: 14 | U31: 1 | W31: 3 | X31: 3 | AI31: 1 | AS31: =SUM(B31:AR31) -> 96
A32: 41990 | B32: 6 | C32: 19 | D32: 17 | E32: 16 | F32: 5 | H32: 1 | I32: 18 | J32: 10 | K32: 2 | M32: 3 | N32: 1 | R32: 4 | S32: 12 | U32: 24 | W32: 3 | X32: 1 | AB32: 1 | AD32: 0 | AF32: 0 | AG32: 0 | AM32: 0 | AS32: =SUM(B32:AR32) -> 143
A33: 41993 | B33: 2 | C33: 14 | D33: 6 | E33: 3 | I33: 5 | J33: 13 | K33: 4 | R33: 6 | S33: 19 | U33: 4 | W33: 3 | X33: 13 | AL33: 0 | AS33: =SUM(B33:AR33) -> 92
A34: 41994 | B34: 10 | C34: 8 | D34: 17 | E34: 15 | F34: 9 | I34: 6 | J34: 4 | N34: 0 | Q34: 12 | R34: 15 | S34: 12 | T34: 2 | U34: 21 | AG34: 0 | AI34: 0 | AS34: =SUM(B34:AR34) -> 131
A35: 42000 | B35: 1 | C35: 21 | D35: 7 | E35: 5 | F35: 3 | H35: 5 | I35: 11 | J35: 12 | K35: 8 | L35: 0 | M35: 5 | N35: 0 | O35: 1 | Q35: 0 | R35: 1 | S35: 2 | T35: 0 | U35: 2 | V35: 0 | W35: 0 | X35: 9 | Y35: 0 | Z35: 2 | AB35: 2 | AC35: 0 | AD35: 0 | AE35: 0 | AF35: 0 | AI35: 0 | AL35: 1 | AM35: 0 | AO35: 0 | AP35: 0 | AS35: =SUM(B35:AR35) -> 98
A36: 42001 | B36: 5 | C36: 18 | D36: 8 | E36: 28 | F36: 8 | I36: 3 | J36: 9 | K36: 1 | M36: 0 | N36: 0 | P36: 3 | Q36: 3 | R36: 28 | S36: 19 | U36: 2 | W36: 14 | X36: 8 | AG36: 0 | AL36: 2 | AP36: 0 | AR36: 0 | AS36: =SUM(B36:AR36) -> 159
A37: 42004 | D37: 0 | E37: 0 | M37: 0 | Q37: 1 | R37: 10 | S37: 21 | U37: 0 | V37: 4 | W37: 5 | X37: 0 | AB37: 1 | AF37: 0 | AH37: 0 | AL37: 3 | AM37: 10 | AN37: 0 | AS37: =SUM(B37:AR37) -> 55
A38: 42005 | Q38: 3 | R38: 3 | S38: 12 | W38: 0 | X38: 4 | AL38: 0 | AM38: 1 | AN38: 0 | AS38: =SUM(B38:AR38) -> 23
A39: 42007 | N39: 0 | Q39: 2 | R39: 21 | S39: 4 | U39: 2 | W39: 11 | X39: 9 | Y39: 5 | Z39: 0 | AA39: 4 | AB39: 3 | AC39: 0 | AD39: 11 | AE39: 4 | AF39: 0 | AG39: 0 | AH39: 0 | AL39: 0 | AM39: 0 | AR39: 0 | AS39: =SUM(B39:AR39) -> 76
A40: 42008 | Q40: 3 | R40: 4 | S40: 5 | W40: 3 | X40: 11 | Y40: 0 | Z40: 4 | AA40: 0 | AB40: 0 | AD40: 6 | AE40: 7 | AL40: 0 | AR40: 0 | AS40: =SUM(B40:AR40) -> 43
...

Sheet ==GOOSE by BLIND==
A1: DATE | B1: B1 | C1: B2 | D1: B3 | E1: B4 | F1: B5 | G1: C1 | H1: C2 | I1: C3 | J1: C4 | K1: F1 | L1: F2 | M1: H1 | N1: I1 | O1: J1 | P1: J2 | Q1: 01 | R1: 02 | S1: 03 | T1: 04 | U1: 12 | V1: 13 | W1: 14 | X1: 15 | Y1: 16 | Z1: 17 | AA1: 18 | AB1: 19 | AC1: 20 | AD1: 21 | AE1: 22 | AF1: 40 | AG1: 41 | AH1: 42 | AI1: 43 | AJ1: 44 | AK1: 45 | AL1: 46 | AM1: 47 | AN1: 48 | AO1: 49 | AP1: 50 | AQ1: 60 | AR1: 61 | AS1: TOTAL
A2: 41923 | D2: 1 | E2: 1 | H2: 1 | I2: 0 | L2: 0 | M2: 6 | N2: 0 | O2: 0 | P2: 0 | Q2: 0 | R2: 2 | S2: 6 | T2: 0 | U2: 2 | V2: 0 | W2: 0 | X2: 0 | AI2: 4 | AL2: 0 | AS2: =SUM(B2:AR2) -> 23
A3: 41924 | L3: 0 | M3: 0 | N3: 0 | O3: 0 | Q3: 0 | R3: 0 | S3: 4 | U3: 0 | W3: 3 | X3: 0 | AD3: 0 | AI3: 4 | AS3: =SUM(B3:AR3) -> 11 | AV3: Not Hunted
A4: 41927 | F4: 0 | I4: 0 | M4: 0 | N4: 0 | Q4: 0 | R4: 0 | S4: 1 | U4: 0 | W4: 0 | AS4: =SUM(B4:AR4) -> 1
A5: 41930 | D5: 0 | I5: 0 | K5: 0 | M5: 0 | N5: 0 | O5: 0 | Q5: 0 | R5: 0 | S5: 2 | U5: 0 | W5: 0 | AI5: 0 | AL5: 1 | AM5: 11 | AS5: =SUM(B5:AR5) -> 14 | AV5: Youth Hunt
A6: 41931 | D6: 0 | F6: 0 | I6: 0 | N6: 0 | R6: 0 | S6: 0 | U6: 0 | W6: 0 | X6: 0 | AL6: 2 | AM6: 0 | AS6: =SUM(B6:AR6) -> 2
A7: 41934 | I7: 0 | K7: 0 | N7: 0 | R7: 0 | S7: 1 | U7: 0 | W7: 0 | X7: 0 | AS7: =SUM(B7:AR7) -> 1 | AV7: Goose Closed
A8: 41937 | D8: 0 | I8: 0 | N8: 0 | Q8: 0 | R8: 0 | S8: 0 | U8: 0 | W8: 0 | AL8: 0 | AM8: 2 | AS8: =SUM(B8:AR8) -> 2
A9: 41938 | K9: 0 | N9: 0 | O9: 0 | Q9: 1 | R9: 0 | S9: 0 | U9: 0 | W9: 0 | X9: 0 | AG9: 4 | AH9: 0 | AL9: 12 | AM9: 0 | AS9: =SUM(B9:AR9) -> 17
A10: 41941 | AS10: N/A
A11: 41944 | AS11: N/A
A12: 41945 | AS12: N/A
A13: 41948 | C13: 0 | D13: 0 | E13: 0 | I13: 0 | J13: 0 | K13: 0 | M13: 0 | N13: 0 | R13: 0 | S13: 0 | U13: 0 | W13: 0 | X13: 0 | AB13: 0 | AI13: 0 | AL13: 4 | AM13: 0 | AO13: 5 | AS13: =SUM(B13:AR13) -> 9
A14: 41951 | D14: 0 | E14: 0 | F14: 0 | I14: 0 | K14: 0 | R14: 0 | S14: 0 | AL14: 0 | AS14: =SUM(B14:AR14) -> 0
A15: 41952 | B15: 0 | C15: 0 | D15: 0 | E15: 0 | F15: 0 | H15: 0 | I15: 0 | K15: 0 | L15: 0 | M15: 0 | N15: 0 | O15: 0 | R15: 0 | S15: 0 | U15: 0 | AH15: 0 | AI15: 7 | AL15: 2 | AS15: =SUM(B15:AR15) -> 9
A16: 41955 | D16: 0 | E16: 1 | F16: 0 | H16: 0 | I16: 0 | K16: 1 | L16: 0 | N16: 0 | O16: 0 | R16: 0 | S16: 3 | X16: 3 | AG16: 0 | AH16: 4 | AI16: 0 | AL16: 1 | AM16: 5 | AO16: 0 | AS16: =SUM(B16:AR16) -> 18
A17: 41958 | F17: 0 | H17: 0 | I17: 0 | N17: 0 | O17: 0 | Q17: 1 | R17: 1 | S17: 0 | U17: 0 | V17: 0 | W17: 2 | X17: 1 | AD17: 0 | AF17: 2 | AG17: 1 | AH17: 11 | AI17: 4 | AL17: 2 | AM17: 2 | AN17: 1 | AO17: 1 | AP17: 0 | AS17: =SUM(B17:AR17) -> 29
A18: 41959 | F18: 0 | N18: 0 | Q18: 0 | R18: 0 | S18: 0 | U18: 0 | W18: 0 | X18: 0 | Y18: 0 | AC18: 0 | AD18: 0 | AG18: 4 | AH18: 0 | AL18: 0 | AM18: 0 | AP18: 2 | AS18: =SUM(B18:AR18) -> 6
A19: 41962 | F19: 0 | N19: 0 | Q19: 0 | R19: 4 | S19: 1 | U19: 0 | W19: 0 | X19: 0 | Z19: 0 | AC19: 1 | AD19: 0 | AE19: 0 | AF19: 2 | AG19: 0 | AH19: 1 | AI19: 0 | AL19: 3 | AM19: 0 | AO19: 0 | AS19: =SUM(B19:AR19) -> 12
A20: 41965 | C20: 0 | D20: 0 | E20: 0 | F20: 0 | I20: 0 | N20: 1 | Q20: 0 | R20: 0 | S20: 0 | U20: 2 | V20: 0 | W20: 0 | X20: 1 | Y20: 0 | Z20: 0 | AB20: 3 | AD20: 0 | AF20: 0 | AG20: 2 | AH20: 4 | AL20: 1 | AM20: 0 | AS20: =SUM(B20:AR20) -> 14
A21: 41966 | C21: 0 | D21: 0 | E21: 1 | F21: 5 | I21: 0 | K21: 0 | N21: 0 | Q21: 1 | R21: 0 | S21: 0 | U21: 0 | W21: 0 | X21: 0 | AD21: 0 | AG21: 4 | AH21: 0 | AI21: 0 | AS21: =SUM(B21:AR21) -> 11
A22: 41969 | B22: 0 | C22: 0 | D22: 0 | E22: 0 | F22: 0 | H22: 0 | I22: 0 | J22: 0 | K22: 0 | L22: 0 | N22: 0 | O22: 0 | P22: 0 | Q22: 0 | R22: 0 | S22: 0 | V22: 0 | W22: 0 | X22: 16 | Y22: 1 | AD22: 0 | AG22: 11 | AH22: 0 | AL22: 0 | AM22: 0 | AO22: 0 | AS22: =SUM(B22:AR22) -> 28
A23: 41970 | B23: 0 | C23: 0 | D23: 0 | E23: 0 | F23: 0 | H23: 0 | I23: 0 | J23: 0 | K23: 0 | N23: 0 | R23: 1 | S23: 0 | X23: 0 | AS23: =SUM(B23:AR23) -> 1
A24: 41972 | C24: 0 | D24: 0 | E24: 0 | F24: 0 | H24: 0 | I24: 1 | J24: 0 | K24: 0 | N24: 0 | O24: 0 | P24: 0 | R24: 0 | S24: 0 | U24: 0 | W24: 0 | X24: 0 | AC24: 0 | AG24: 0 | AH24: 0 | AI24: 4 | AL24: 0 | AM24: 0 | AO24: 0 | AS24: =SUM(B24:AR24) -> 5
A25: 41973 | D25: 0 | E25: 0 | F25: 0 | I25: 1 | J25: 0 | K25: 0 | N25: 0 | R25: 0 | S25: 2 | U25: 0 | W25: 0 | X25: 3 | AM25: 1 | AS25: =SUM(B25:AR25) -> 7
A26: 41976 | E26: 0 | H26: 1 | N26: 2 | Q26: 0 | R26: 0 | S26: 0 | U26: 0 | W26: 0 | X26: 4 | Z26: 0 | AD26: 0 | AG26: 0 | AH26: 0 | AI26: 0 | AM26: 0 | AO26: 0 | AS26: =SUM(B26:AR26) -> 7
A27: 41979 | C27: 2 | D27: 0 | E27: 0 | F27: 0 | H27: 0 | I27: 0 | J27: 0 | K27: 0 | N27: 0 | Q27: 0 | R27: 0 | S27: 0 | U27: 0 | V27: 0 | W27: 0 | X27: 2 | Z27: 0 | AC27: 0 | AD27: 0 | AE27: 0 | AG27: 0 | AP27: 1 | AS27: =SUM(B27:AR27) -> 5
A28: 41980 | D28: 2 | K28: 1 | N28: 0 | Q28: 0 | R28: 0 | S28: 1 | U28: 2 | W28: 0 | X28: 0 | AC28: 0 | AE28: 0 | AI28: 1 | AS28: =SUM(B28:AR28) -> 7
A29: 41983 | C29: 0 | D29: 0 | E29: 0 | F29: 0 | I29: 0 | J29: 0 | K29: 0 | R29: 0 | S29: 2 | U29: 0 | W29: 0 | X29: 0 | Z29: 0 | AD29: 4 | AH29: 0 | AI29: 1 | AL29: 0 | AM29: 4 | AS29: =SUM(B29:AR29) -> 11
A30: 41986 | B30: 0 | C30: 0 | D30: 0 | E30: 0 | F30: 0 | H30: 0 | I30: 0 | J30: 0 | K30: 0 | M30: 0 | N30: 0 | O30: 0 | R30: 0 | S30: 0 | T30: 0 | U30: 0 | V30: 0 | W30: 3 | X30: 3 | AC30: 0 | AD30: 0 | AE30: 0 | AI30: 0 | AS30: =SUM(B30:AR30) -> 6
A31: 41987 | C31: 0 | D31: 1 | F31: 0 | I31: 1 | J31: 0 | S31: 0 | U31: 0 | W31: 1 | X31: 2 | AI31: 2 | AS31: =SUM(B31:AR31) -> 7
A32: 41990 | B32: 0 | C32: 0 | D32: 0 | E32: 0 | F32: 0 | H32: 0 | I32: 0 | J32: 0 | K32: 0 | M32: 1 | N32: 0 | R32: 0 | S32: 1 | U32: 1 | W32: 0 | X32: 0 | AB32: 1 | AD32: 0 | AF32: 2 | AG32: 1 | AM32: 0 | AS32: =SUM(B32:AR32) -> 7
A33: 41993 | B33: 0 | C33: 0 | D33: 0 | E33: 0 | I33: 0 | J33: 0 | K33: 0 | R33: 0 | S33: 0 | U33: 0 | W33: 0 | X33: 2 | AL33: 0 | AS33: =SUM(B33:AR33) -> 2
A34: 41994 | B34: 0 | C34: 0 | D34: 0 | E34: 0 | F34: 1 | I34: 0 | J34: 0 | N34: 0 | Q34: 0 | R34: 0 | S34: 0 | T34: 0 | U34: 0 | AG34: 7 | AI34: 0 | AS34: =SUM(B34:AR34) -> 8
A35: 42000 | B35: 0 | C35: 0 | D35: 0 | E35: 0 | F35: 0 | H35: 0 | I35: 0 | J35: 0 | K35: 0 | L35: 0 | M35: 0 | N35: 0 | O35: 0 | Q35: 0 | R35: 0 | S35: 0 | T35: 0 | U35: 1 | V35: 0 | W35: 0 | X35: 1 | Y35: 0 | Z35: 0 | AB35: 0 | AC35: 0 | AD35: 0 | AE35: 0 | AF35: 1 | AI35: 0 | AL35: 2 | AM35: 0 | AO35: 1 | AP35: 0 | AS35: =SUM(B35:AR35) -> 6
A36: 42001 | B36: 0 | C36: 0 | D36: 0 | E36: 0 | F36: 1 | I36: 0 | J36: 0 | K36: 0 | M36: 0 | N36: 0 | P36: 0 | Q36: 0 | R36: 4 | S36: 0 | U36: 0 | W36: 0 | X36: 0 | AG36: 1 | AL36: 0 | AP36: 0 | AR36: 0 | AS36: =SUM(B36:AR36) -> 6
A37: 42004 | D37: 0 | E37: 0 | M37: 0 | Q37: 0 | R37: 1 | S37: 2 | U37: 0 | V37: 0 | W37: 2 | X37: 1 | AB37: 0 | AF37: 0 | AH37: 0 | AL37: 4 | AM37: 8 | AN37: 0 | AS37: =SUM(B37:AR37) -> 18
A38: 42005 | Q38: 0 | R38: 0 | S38: 2 | W38: 0 | X38: 1 | AL38: 1 | AM38: 0 | AN38: 0 | AS38: =SUM(B38:AR38) -> 4
A39: 42007 | N39: 0 | Q39: 0 | R39: 0 | S39: 0 | U39: 0 | W39: 0 | X39: 1 | Y39: 2 | Z39: 0 | AA39: 0 | AB39: 0 | AC39: 0 | AD39: 2 | AE39: 0 | AF39: 0 | AG39: 0 | AH39: 0 | AL39: 0 | AM39: 1 | AR39: 8 | AS39: =SUM(B39:AR39) -> 14
A40: 42008 | Q40: 1 | R40: 0 | S40: 0 | W40: 0 | X40: 1 | Y40: 0 | Z40: 1 | AA40: 0 | AB40: 0 | AD40: 0 | AE40: 2 | AL40: 0 | AR40: 2 | AS40: =SUM(B40:AR40) -> 7
...

Sheet ==HUNTER by BLIND==
A1: DATE | B1: B1 | C1: B2 | D1: B3 | E1: B4 | F1: B5 | G1: C1 | H1: C2 | I1: C3 | J1: C4 | K1: F1 | L1: F2 | M1: H1 | N1: I1 | O1: J1 | P1: J2 | Q1: 01 | R1: 02 | S1: 03 | T1: 04 | U1: 12 | V1: 13 | W1: 14 | X1: 15 | Y1: 16 | Z1: 17 | AA1: 18 | AB1: 19 | AC1: 20 | AD1: 21 | AE1: 22 | AF1: 40 | AG1: 41 | AH1: 42 | AI1: 43 | AJ1: 44 | AK1: 45 | AL1: 46 | AM1: 47 | AN1: 48 | AO1: 49 | AP1: 50 | AQ1: 60 | AR1: 61 | AS1: TOTAL
A2: 41923 | D2: 3 | E2: 2 | H2: 2 | I2: 3 | L2: 1 | M2: 3 | N2: 5 | O2: 3 | P2: 3 | Q2: 3 | R2: 3 | S2: 4 | T2: 2 | U2: 3 | V2: 2 | W2: 2 | X2: 3 | AI2: 1 | AL2: 2 | AS2: =SUM(B2:AR2) -> 50
A3: 41924 | L3: 2 | M3: 2 | N3: 2 | O3: 2 | Q3: 3 | R3: 3 | S3: 3 | U3: 3 | W3: 2 | X3: 1 | AD3: 2 | AI3: 2 | AS3: =SUM(B3:AR3) -> 27 | AV3: Not Hunted
A4: 41927 | F4: 2 | I4: 4 | M4: 2 | N4: 2 | Q4: 2 | R4: 1 | S4: 5 | U4: 3 | W4: 2 | AS4: =SUM(B4:AR4) -> 23
A5: 41930 | D5: 2 | I5: 3 | K5: 2 | M5: 2 | N5: 1 | O5: 1 | Q5: 3 | R5: 2 | S5: 3 | U5: 3 | W5: 2 | AI5: 2 | AL5: 1 | AM5: 3 | AS5: =SUM(B5:AR5) -> 30 | AV5: Youth Hunt
A6: 41931 | D6: 2 | F6: 2 | I6: 3 | M6: 2 | R6: 2 | S6: 2 | U6: 3 | W6: 2 | X6: 1 | AL6: 2 | AM6: 3 | AS6: =SUM(B6:AR6) -> 24
A7: 41934 | I7: 3 | K7: 2 | N7: 2 | R7: 2 | S7: 3 | U7: 2 | W7: 2 | X7: 1 | AS7: =SUM(B7:AR7) -> 17
A8: 41937 | B8: 2 | I8: 3 | N8: 2 | Q8: 2 | R8: 3 | S8: 2 | U8: 3 | W8: 1 | AL8: 3 | AM8: 3 | AS8: =SUM(B8:AR8) -> 24
A9: 41938 | K9: 2 | N9: 2 | O9: 2 | Q9: 3 | R9: 3 | S9: 2 | U9: 3 | W9: 2 | X9: 3 | AG9: 2 | AH9: 2 | AL9: 3 | AM9: 3 | AS9: =SUM(B9:AR9) -> 32
A10: 41941 | H10: 2 | K10: 2 | N10: 3 | R10: 3 | S10: 3 | U10: 3 | AS10: =SUM(B10:AR10) -> 16
A11: 41944 | D11: 3 | E11: 2 | F11: 2 | H11: 2 | I11: 3 | K11: 5 | L11: 3 | M11: 6 | N11: 2 | O11: 1 | P11: 1 | Q11: 3 | R11: 3 | S11: 3 | U11: 3 | W11: 2 | AS11: =SUM(B11:AR11) -> 44
A12: 41945 | C12: 1 | D12: 3 | E12: 1 | F12: 2 | H12: 3 | I12: 2 | K12: 3 | L12: 2 | M12: 3 | N12: 3 | O12: 3 | R12: 3 | S12: 3 | U12: 3 | AS12: =SUM(B12:AR12) -> 35
A13: 41948 | C13: 2 | D13: 2 | E13: 2 | I13: 3 | J13: 1 | K13: 2 | M13: 2 | N13: 2 | R13: 2 | S13: 3 | U13: 3 | W13: 2 | X13: 1 | AB13: 1 | AI13: 1 | AL13: 3 | AM13: 1 | AO13: 1 | AS13: =SUM(B13:AR13) -> 34
A14: 41951 | D14: 1 | E14: 2 | F14: 2 | I14: 2 | K14: 1 | R14: 1 | S14: 2 | AL14: 1 | AS14: =SUM(B14:AR14) -> 12
A15: 41952 | B15: 2 | C15: 2 | D15: 1 | E15: 1 | F15: 2 | H15: 2 | I15: 3 | K15: 3 | L15: 1 | M15: 2 | N15: 2 | O15: 3 | R15: 2 | S15: 3 | U15: 2 | AH15: 2 | AI15: 3 | AL15: 2 | AS15: =SUM(B15:AR15) -> 38
A16: 41955 | D16: 2 | E16: 3 | F16: 3 | H16: 2 | I16: 2 | K16: 4 | L16: 1 | N16: 3 | O16: 2 | R16: 2 | S16: 5 | X16: 3 | AG16: 3 | AH16: 1 | AI16: 1 | AL16: 2 | AM16: 3 | AO16: 2 | AS16: =SUM(B16:AR16) -> 44
A17: 41958 | F17: 2 | H17: 3 | I17: 2 | N17: 2 | O17: 2 | Q17: 3 | R17: 4 | S17: 6 | U17: 3 | V17: 2 | W17: 5 | X17: 4 | AD17: 3 | AF17: 2 | AG17: 3 | AH17: 3 | AI17: 3 | AL17: 2 | AM17: 3 | AN17: 2 | AO17: 1 | AP17: 3 | AS17: =SUM(B17:AR17) -> 63
A18: 41959 | F18: 2 | N18: 2 | Q18: 2 | R18: 3 | S18: 3 | U18: 3 | W18: 2 | X18: 2 | Y18: 2 | AC18: 3 | AD18: 3 | AG18: 3 | AH18: 1 | AL18: 1 | AM18: 3 | AP18: 2 | AS18: =SUM(B18:AR18) -> 37
A19: 41962 | F19: 2 | N19: 1 | Q19: 2 | R19: 5 | S19: 5 | U19: 3 | W19: 2 | X19: 2 | Z19: 2 | AC19: 2 | AD19: 3 | AE19: 2 | AF19: 2 | AG19: 2 | AH19: 3 | AI19: 3 | AL19: 1 | AM19: 2 | AO19: 1 | AS19: =SUM(B19:AR19) -> 45
A20: 41965 | C20: 2 | D20: 3 | E20: 3 | F20: 3 | I20: 1 | N20: 1 | Q20: 3 | R20: 2 | S20: 5 | U20: 3 | V20: 3 | W20: 4 | X20: 3 | Y20: 1 | Z20: 2 | AB20: 3 | AD20: 3 | AF20: 1 | AG20: 2 | AH20: 5 | AL20: 1 | AM20: 1 | AS20: =SUM(B20:AR20) -> 55
A21: 41966 | C21: 1 | D21: 1 | E21: 2 | F21: 2 | I21: 2 | K21: 3 | N21: 1 | Q21: 3 | R21: 3 | S21: 4 | U21: 2 | W21: 3 | X21: 3 | AD21: 2 | AG21: 2 | AH21: 3 | AI21: 2 | AS21: =SUM(B21:AR21) -> 39
A22: 41969 | B22: 1 | C22: 3 | D22: 2 | E22: 3 | F22: 3 | H22: 2 | I22: 1 | J22: 3 | K22: 2 | L22: 2 | N22: 2 | O22: 2 | P22: 3 | Q22: 3 | R22: 3 | S22: 3 | V22: 1 | W22: 3 | X22: 4 | Y22: 1 | AD22: 2 | AG22: 3 | AH22: 2 | AL22: 2 | AM22: 1 | AO22: 1 | AS22: =SUM(B22:AR22) -> 58
A23: 41970 | B23: 1 | C23: 2 | D23: 2 | E23: 1 | F23: 2 | H23: 2 | I23: 2 | J23: 2 | K23: 2 | N23: 2 | R23: 2 | S23: 6 | X23: 3 | AS23: =SUM(B23:AR23) -> 29
A24: 41972 | C24: 4 | D24: 3 | E24: 5 | F24: 2 | H24: 2 | I24: 4 | J24: 3 | K24: 1 | N24: 3 | O24: 3 | P24: 1 | R24: 2 | S24: 6 | U24: 3 | W24: 2 | X24: 2 | AC24: 1 | AG24: 1 | AH24: 1 | AI24: 2 | AL24: 3 | AM24: 2 | AO24: 1 | AS24: =SUM(B24:AR24) -> 57
A25: 41973 | D25: 1 | E25: 1 | F25: 3 | I25: 2 | J25: 2 | K25: 2 | N25: 1 | R25: 4 | S25: 4 | U25: 2 | W25: 3 | X25: 2 | AM25: 1 | AS25: =SUM(B25:AR25) -> 28
A26: 41976 | E26: 1 | H26: 2 | N26: 1 | Q26: 2 | R26: 3 | S26: 3 | U26: 2 | W26: 2 | X26: 1 | Z26: 2 | AD26: 2 | AG26: 1 | AH26: 2 | AI26: 2 | AM26: 1 | AO26: 2 | AS26: =SUM(B26:AR26) -> 29
A27: 41979 | C27: 1 | D27: 2 | E27: 3 | F27: 3 | H27: 2 | I27: 3 | J27: 2 | K27: 2 | N27: 1 | Q27: 3 | R27: 3 | S27: 2 | U27: 6 | V27: 3 | W27: 3 | X27: 3 | Z27: 1 | AC27: 2 | AD27: 1 | AE27: 3 | AG27: 5 | AP27: 2 | AS27: =SUM(B27:AR27) -> 56
A28: 41980 | D28: 2 | K28: 1 | N28: 3 | Q28: 2 | R28: 1 | S28: 5 | U28: 5 | W28: 2 | X28: 3 | AC28: 3 | AE28: 3 | AI28: 1 | AS28: =SUM(B28:AR28) -> 31
A29: 41983 | C29: 4 | D29: 2 | E29: 3 | F29: 1 | I29: 2 | J29: 2 | K29: 2 | R29: 3 | S29: 3 | U29: 3 | W29: 4 | X29: 3 | Z29: 1 | AD29: 3 | AH29: 2 | AI29: 2 | AL29: 2 | AM29: 2 | AS29: =SUM(B29:AR29) -> 44
A30: 41986 | B30: 2 | C30: 5 | D30: 2 | E30: 2 | F30: 2 | H30: 3 | I30: 2 | J30: 3 | K30: 4 | M30: 2 | N30: 1 | O30: 1 | R30: 6 | S30: 2 | T30: 2 | U30: 2 | V30: 2 | W30: 3 | X30: 3 | AC30: 2 | AD30: 3 | AE30: 1 | AI30: 1 | AS30: =SUM(B30:AR30) -> 56
A31: 41987 | C31: 4 | D31: 3 | F31: 3 | I31: 2 | J31: 2 | S31: 2 | U31: 1 | W31: 1 | X31: 2 | AI31: 3 | AS31: =SUM(B31:AR31) -> 23
A32: 41990 | B32: 1 | C32: 3 | D32: 3 | E32: 4 | F32: 2 | H32: 2 | I32: 4 | J32: 3 | K32: 3 | M32: 1 | N32: 2 | R32: 3 | S32: 3 | U32: 5 | W32: 2 | X32: 3 | AB32: 1 | AD32: 2 | AF32: 3 | AG32: 1 | AM32: 2 | AS32: =SUM(B32:AR32) -> 53
A33: 41993 | B33: 2 | C33: 2 | D33: 2 | E33: 3 | I33: 3 | J33: 4 | K33: 2 | R33: 2 | S33: 3 | U33: 2 | W33: 1 | X33: 4 | AL33: 2 | AS33: =SUM(B33:AR33) -> 32
A34: 41994 | B34: 3 | C34: 3 | D34: 3 | E34: 4 | F34: 3 | I34: 3 | J34: 3 | N34: 1 | Q34: 2 | R34: 4 | S34: 3 | T34: 1 | U34: 3 | AG34: 2 | AI34: 1 | AS34: =SUM(B34:AR34) -> 39
A35: 42000 | B35: 3 | C35: 3 | D35: 3 | E35: 3 | F35: 3 | H35: 3 | I35: 5 | J35: 3 | K35: 3 | L35: 1 | M35: 3 | N35: 2 | O35: 1 | Q35: 3 | R35: 3 | S35: 3 | T35: 1 | U35: 2 | V35: 3 | W35: 3 | X35: 5 | Y35: 1 | Z35: 1 | AB35: 2 | AC35: 6 | AD35: 2 | AE35: 2 | AF35: 3 | AI35: 3 | AL35: 1 | AM35: 2 | AO35: 3 | AP35: 2 | AS35: =SUM(B35:AR35) -> 87
A36: 42001 | B36: 1 | C36: 6 | D36: 3 | E36: 4 | F36: 3 | I36: 3 | J36: 2 | K36: 1 | M36: 2 | N36: 3 | P36: 1 | Q36: 2 | R36: 4 | S36: 3 | U36: 2 | W36: 3 | X36: 2 | AG36: 3 | AL36: 1 | AP36: 3 | AR36: 1 | AS36: =SUM(B36:AR36) -> 53
A37: 42004 | D37: 2 | E37: 2 | L37: 2 | Q37: 2 | R37: 4 | S37: 3 | U37: 2 | V37: 3 | W37: 3 | X37: 2 | AB37: 2 | AF37: 1 | AH37: 1 | AL37: 4 | AM37: 2 | AN37: 1 | AS37: =SUM(B37:AR37) -> 36
A38: 42005 | Q38: 2 | R38: 3 | S38: 3 | W38: 1 | X38: 1 | AL38: 1 | AM38: 2 | AN38: 1 | AS38: =SUM(B38:AR38) -> 14
A39: 42007 | N39: 1 | Q39: 3 | R39: 3 | S39: 2 | U39: 2 | W39: 3 | X39: 2 | Y39: 3 | Z39: 1 | AA39: 1 | AB39: 2 | AC39: 2 | AD39: 3 | AE39: 2 | AF39: 2 | AG39: 1 | AH39: 1 | AL39: 2 | AM39: 2 | AR39: 2 | AS39: =SUM(B39:AR39) -> 40
A40: 42008 | Q40: 3 | R40: 2 | S40: 3 | W40: 5 | X40: 3 | Y40: 2 | Z40: 1 | AA40: 2 | AB40: 1 | AD40: 3 | AE40: 2 | AL40: 2 | AR40: 1 | AS40: =SUM(B40:AR40) -> 30
...

Sheet TOTAL DUCK SUMM
A1: DATE | B1: # DUCKS | C1: # HUNTERS | D1: DUCKS/HUNTER
A2: 41923 | B2: =SUM('==DUCK by BLIND=='!B2:AR2) -> 116 | C2: =SUM('==HUNTER by BLIND=='!B2:AR2) -> 50 | D2: =B2/C2 -> 2.32
A3: 41924 | B3: =SUM('==DUCK by BLIND=='!B3:AR3) -> 34 | C3: =SUM('==HUNTER by BLIND=='!B3:AR3) -> 27 | D3: =B3/C3 -> 1.2592593 | G3: Youth Hunt
A4: 41927 | B4: =SUM('==DUCK by BLIND=='!B4:AR4) -> 69 | C4: =SUM('==HUNTER by BLIND=='!B4:AR4) -> 23 | D4: =B4/C4 -> 3
A5: 41930 | B5: =SUM('==DUCK by BLIND=='!B5:AR5) -> 28 | C5: =SUM('==HUNTER by BLIND=='!B5:AR5) -> 30 | D5: =B5/C5 -> 0.93333333
A6: 41931 | B6: =SUM('==DUCK by BLIND=='!B6:AR6) -> 26 | C6: =SUM('==HUNTER by BLIND=='!B6:AR6) -> 24 | D6: =B6/C6 -> 1.0833333
A7: 41934 | B7: =SUM('==DUCK by BLIND=='!B7:AR7) -> 24 | C7: =SUM('==HUNTER by BLIND=='!B7:AR7) -> 17 | D7: =B7/C7 -> 1.4117647
A8: 41937 | B8: =SUM('==DUCK by BLIND=='!B8:AR8) -> 45 | C8: =SUM('==HUNTER by BLIND=='!B8:AR8) -> 24 | D8: =B8/C8 -> 1.875
A9: 41938 | B9: =SUM('==DUCK by BLIND=='!B9:AR9) -> 55 | C9: =SUM('==HUNTER by BLIND=='!B9:AR9) -> 32 | D9: =B9/C9 -> 1.71875
A10: 41941 | B10: =SUM('==DUCK by BLIND=='!B10:AR10) -> 39 | C10: =SUM('==HUNTER by BLIND=='!B10:AR10) -> 16 | D10: =B10/C10 -> 2.4375
A11: 41944 | B11: =SUM('==DUCK by BLIND=='!B11:AR11) -> 132 | C11: =SUM('==HUNTER by BLIND=='!B11:AR11) -> 44 | D11: =B11/C11 -> 3
A12: 41945 | B12: =SUM('==DUCK by BLIND=='!B12:AR12) -> 61 | C12: =SUM('==HUNTER by BLIND=='!B12:AR12) -> 35 | D12: =B12/C12 -> 1.7428571
A13: 41948 | B13: =SUM('==DUCK by BLIND=='!B13:AR13) -> 70 | C13: =SUM('==HUNTER by BLIND=='!B13:AR13) -> 34 | D13: =B13/C13 -> 2.0588235
A14: 41951 | B14: =SUM('==DUCK by BLIND=='!B14:AR14) -> 34 | C14: =SUM('==HUNTER by BLIND=='!B14:AR14) -> 12 | D14: =B14/C14 -> 2.8333333
A15: 41952 | B15: =SUM('==DUCK by BLIND=='!B15:AR15) -> 68 | C15: =SUM('==HUNTER by BLIND=='!B15:AR15) -> 38 | D15: =B15/C15 -> 1.7894737
... A49: 41664 | B49: =SUM('==DUCK by BLIND=='!B49:AR49) -> 135 | C49: =SUM('==HUNTER by BLIND=='!B49:AR49) -> 49 | D49: =B49/C49 -> 2.755102
A50: GRAND TOTAL | B50: =SUM(B2:B49) -> 4380 | C50: =SUM(C2:C49) -> 1917 | D50: =B50/C50 -> 2.28482

Sheet TOTAL GOOSE SUMM
A1: DATE | B1: # GEESE | C1: # HUNTERS | D1: GEESE/HUNTER
A2: 41923 | B2: =SUM('==GOOSE by BLIND=='!B2:AR2) -> 23 | C2: =SUM('==HUNTER by BLIND=='!B2:AR2) -> 50 | D2: =B2/C2 -> 0.46
A3: 41924 | B3: =SUM('==GOOSE by BLIND=='!B3:AR3) -> 11 | C3: =SUM('==HUNTER by BLIND=='!B3:AR3) -> 27 | D3: =B3/C3 -> 0.40740741 | G3: Youth Hunt
A4: 41927 | B4: =SUM('==GOOSE by BLIND=='!B4:AR4) -> 1 | C4: =SUM('==HUNTER by BLIND=='!B4:AR4) -> 23 | D4: =B4/C4 -> 0.043478261
A5: 41930 | B5: =SUM('==GOOSE by BLIND=='!B5:AR5) -> 14 | C5: =SUM('==HUNTER by BLIND=='!B5:AR5) -> 30 | D5: =B5/C5 -> 0.46666667 | G5: Goose Closed
A6: 41931 | B6: =SUM('==GOOSE by BLIND=='!B6:AR6) -> 2 | C6: =SUM('==HUNTER by BLIND=='!B6:AR6) -> 24 | D6: =B6/C6 -> 0.083333333
A7: 41934 | B7: 0 | C7: =SUM('==HUNTER by BLIND=='!B7:AR7) -> 17 | D7: =B7/C7 -> 0
A8: 41937 | B8: 0 | C8: =SUM('==HUNTER by BLIND=='!B8:AR8) -> 24 | D8: =B8/C8 -> 0
A9: 41938 | B9: 0 | C9: =SUM('==HUNTER by BLIND=='!B9:AR9) -> 32 | D9: =B9/C9 -> 0
A10: 41941 | B10: =SUM('==GOOSE by BLIND=='!B10:AR10) -> 0 | C10: 0 | D10: N/A
A11: 41944 | B11: =SUM('==GOOSE by BLIND=='!B11:AR11) -> 0 | C11: 0 | D11: N/A
A12: 41945 | B12: =SUM('==GOOSE by BLIND=='!B12:AR12) -> 0 | C12: 0 | D12: N/A
A13: 41948 | B13: =SUM('==GOOSE by BLIND=='!B13:AR13) -> 9 | C13: =SUM('==HUNTER by BLIND=='!B13:AR13) -> 34 | D13: =B13/C13 -> 0.26470588
A14: 41951 | B14: =SUM('==GOOSE by BLIND=='!B14:AR14) -> 0 | C14: =SUM('==HUNTER by BLIND=='!B14:AR14) -> 12 | D14: =B14/C14 -> 0
A15: 41952 | B15: =SUM('==GOOSE by BLIND=='!B15:AR15) -> 9 | C15: =SUM('==HUNTER by BLIND=='!B15:AR15) -> 38 | D15: =B15/C15 -> 0.23684211
A16: 41955 | B16: =SUM('==GOOSE by BLIND=='!B16:AR16) -> 18 | C16: =SUM('==HUNTER by BLIND=='!B16:AR16) -> 44 | D16: =B16/C16 -> 0.40909091
A17: 41958 | B17: =SUM('==GOOSE by BLIND=='!B17:AR17) -> 29 | C17: =SUM('==HUNTER by BLIND=='!B17:AR17) -> 63 | D17: =B17/C17 -> 0.46031746
A18: 41959 | B18: =SUM('==GOOSE by BLIND=='!B18:AR18) -> 6 | C18: =SUM('==HUNTER by BLIND=='!B18:AR18) -> 37 | D18: =B18/C18 -> 0.16216216
A19: 41962 | B19: =SUM('==GOOSE by BLIND=='!B19:AR19) -> 12 | C19: =SUM('==HUNTER by BLIND=='!B19:AR19) -> 45 | D19: =B19/C19 -> 0.26666667
A20: 41965 | B20: =SUM('==GOOSE by BLIND=='!B20:AR20) -> 14 | C20: =SUM('==HUNTER by BLIND=='!B20:AR20) -> 55 | D20: =B20/C20 -> 0.25454545
A21: 41966 | B21: =SUM('==GOOSE by BLIND=='!B21:AR21) -> 11 | C21: =SUM('==HUNTER by BLIND=='!B21:AR21) -> 39 | D21: =B21/C21 -> 0.28205128
A22: 41969 | B22: =SUM('==GOOSE by BLIND=='!B22:AR22) -> 28 | C22: =SUM('==HUNTER by BLIND=='!B22:AR22) -> 58 | D22: =B22/C22 -> 0.48275862
A23: 41970 | B23: =SUM('==GOOSE by BLIND=='!B23:AR23) -> 1 | C23: =SUM('==HUNTER by BLIND=='!B23:AR23) -> 29 | D23: =B23/C23 -> 0.034482759
A24: 41972 | B24: =SUM('==GOOSE by BLIND=='!B24:AR24) -> 5 | C24: =SUM('==HUNTER by BLIND=='!B24:AR24) -> 57 | D24: =B24/C24 -> 0.087719298
... A49: 41664 | B49: =SUM('==GOOSE by BLIND=='!B49:AR49) -> 13 | C49: =SUM('==HUNTER by BLIND=='!B49:AR49) -> 49 | D49: =B49/C49 -> 0.26530612
A50: GRAND TOTAL | B50: =SUM(B2:B49) -> 348 | C50: =SUM(C2:C49)-(C10+C11+C12) -> 1822 | D50: =B50/C50 -> 0.1909989

Sheet ==UPLAND SUMM==
A1: DATE | B1: HUNTERS | C1: PHEASANTS | D1: QUAIL | E1: PHEASANT/HUNTER | F1: QUAIL/HUNTER
A2: 41923 | B2: 17 | C2: 4 | D2: 14 | E2: =C2/B2 -> 0.23529412 | F2: =D2/B2 -> 0.82352941
A3: 41924 | B3: 10 | C3: 5 | D3: 1 | E3: =C3/B3 -> 0.5 | F3: =D3/B3 -> 0.1 | I3: Not Hunted
A4: 41927 | B4: 10 | C4: 3 | D4: 0 | E4: =C4/B4 -> 0.3 | F4: =D4/B4 -> 0
A5: 41930 | B5: 15 | C5: 4 | D5: 4 | E5: =C5/B5 -> 0.26666667 | F5: =D5/B5 -> 0.26666667
A6: 41931 | B6: 0 | C6: 0 | D6: 0 | E6: 0 | F6: 0
A7: 41934 | B7: 4 | C7: 1 | D7: 2 | E7: =C7/B7 -> 0.25 | F7: =D7/B7 -> 0.5
A8: 41937 | B8: 6 | C8: 2 | D8: 2 | E8: =C8/B8 -> 0.33333333 | F8: =D8/B8 -> 0.33333333
A9: 41938 | B9: 4 | C9: 0 | D9: 1 | E9: =C9/B9 -> 0 | F9: =D9/B9 -> 0.25
A10: 41941 | B10: 3 | C10: 1 | D10: 4 | E10: =C10/B10 -> 0.33333333 | F10: =D10/B10 -> 1.3333333
A11: 41944 | B11: 3 | C11: 0 | D11: 0 | E11: =C11/B11 -> 0 | F11: =D11/B11 -> 0
A12: 41945 | B12: 4 | C12: 0 | D12: 1 | E12: =C12/B12 -> 0 | F12: =D12/B12 -> 0.25
A13: 41948 | B13: 2 | C13: 0 | D13: 0 | E13: =C13/B13 -> 0 | F13: =D13/B13 -> 0
A14: 41951 | B14: 0 | C14: 0 | D14: 0 | E14: N/A | F14: N/A
A15: 41952 | B15: 3 | C15: 0 | D15: 3 | E15: =C15/B15 -> 0 | F15: =D15/B15 -> 1
A16: 41955 | B16: 0 | C16: 0 | D16: 0 | E16: N/A | F16: N/A
A17: 41958 | B17: 1 | C17: 0 | D17: 4 | E17: =C17/B17 -> 0 | F17: =D17/B17 -> 4
A18: 41959 | B18: 1 | C18: 0 | D18: 5 | E18: =C18/B18 -> 0 | F18: =D18/B18 -> 5
A19: 41962 | B19: 0 | C19: 0 | D19: 0 | E19: N/A | F19: N/A
A20: 41965 | B20: 3 | C20: 0 | D20: 0 | E20: =C20/B20 -> 0 | F20: =D20/B20 -> 0
A21: 41966 | B21: 2 | C21: 2 | D21: 1 | E21: =C21/B21 -> 1 | F21: =D21/B21 -> 0.5
A22: 41969 | B22: 3 | C22: 0 | D22: 6 | E22: =C22/B22 -> 0 | F22: =D22/B22 -> 2
A23: 41970 | B23: 1 | C23: 0 | D23: 0 | E23: =C23/B23 -> 0 | F23: =D23/B23 -> 0
A24: 41972 | B24: 8 | C24: 1 | D24: 7 | E24: =C24/B24 -> 0.125 | F24: =D24/B24 -> 0.875
A25: 41973 | B25: 0 | C25: 0 | D25: 0 | E25: N/A | F25: N/A
A26: 41976 | B26: 1 | C26: 0 | D26: 0 | E26: =C26/B26 -> 0 | F26: =D26/B26 -> 0
A27: 41979 | B27: 10 | C27: 0 | D27: 8 | E27: =C27/B27 -> 0 | F27: =D27/B27 -> 0.8
A28: 41980 | B28: 4 | C28: 0 | D28: 0 | E28: =C28/B28 -> 0 | F28: =D28/B28 -> 0
A29: 41983 | B29: 3 | C29: 0 | D29: 0 | E29: =C29/B29 -> 0 | F29: =D29/B29 -> 0
A30: 41986 | B30: 3 | C30: 0 | D30: 0 | E30: =C30/B30 -> 0 | F30: =D30/B30 -> 0
A31: 41987 | B31: 0 | C31: 0 | D31: 0 | E31: N/A | F31: N/A
A32: 41990 | B32: 2 | C32: 0 | D32: 0 | E32: =C32/B32 -> 0 | F32: =D32/B32 -> 0
A33: 41993 | B33: 3 | C33: 0 | D33: 0 | E33: =C33/B33 -> 0 | F33: =D33/B33 -> 0
A34: 41994 | B34: 1 | C34: 1 | D34: 0 | E34: =C34/B34 -> 1 | F34: =D34/B34 -> 0
A35: 42000 | B35: 0 | C35: 0 | D35: 0 | E35: N/A | F35: N/A
A36: 42001 | B36: 15 | C36: 0 | D36: 24 | E36: =C36/B36 -> 0 | F36: =D36/B36 -> 1.6
A37: 42004 | B37: 0 | C37: 0 | D37: 0 | E37: N/A | F37: N/A
A38: Grand Total | B38: =SUM(B2:B37) -> 142 | C38: =SUM(C2:C37) -> 24 | D38: =SUM(D2:D37) -> 87 | E38: =C38/B38 -> 0.16901408 | F38: =D38/B38 -> 0.61267606

Sheet BLIND RANKING STATS
A1: Blind # | B1: Location | C1: Sublocation | D1: Total Hunters | E1: Total Ducks | F1: Total Geese | G1: Ducks/Hunter | H1: Geese/Hunter | I1: Birds/Hunter
A2: B1 | B2: Slough | C2: East Slough | D2: ='==HUNTER by BLIND=='!B50 -> 23 | E2: ='==DUCK by BLIND=='!B51 -> 34 | F2: ='==GOOSE by BLIND=='!B51 -> 0 | G2: =E2/D2 -> 1.4782609 | H2: =F2/D2 -> 0 | I2: =(E2+F2)/D2 -> 1.4782609
A3: B2 | B3: Slough | C3: East Slough | D3: ='==HUNTER by BLIND=='!C50 -> 70 | E3: ='==DUCK by BLIND=='!C51 -> 226 | F3: ='==GOOSE by BLIND=='!C51 -> 2 | G3: =E3/D3 -> 3.2285714 | H3: =F3/D3 -> 0.028571429 | I3: =(E3+F3)/D3 -> 3.2571429
A4: B3 | B4: Slough | C4: West Slough | D4: ='==HUNTER by BLIND=='!D50 -> 72 | E4: ='==DUCK by BLIND=='!D51 -> 231 | F4: ='==GOOSE by BLIND=='!D51 -> 4 | G4: =E4/D4 -> 3.2083333 | H4: =F4/D4 -> 0.055555556 | I4: =(E4+F4)/D4 -> 3.2638889
A5: B4 | B5: Slough | C5: West Slough | D5: ='==HUNTER by BLIND=='!E50 -> 81 | E5: ='==DUCK by BLIND=='!E51 -> 253 | F5: ='==GOOSE by BLIND=='!E51 -> 3 | G5: =E5/D5 -> 3.1234568 | H5: =F5/D5 -> 0.037037037 | I5: =(E5+F5)/D5 -> 3.1604938
A6: B5 | B6: Slough | C6: West Slough | D6: ='==HUNTER by BLIND=='!F50 -> 73 | E6: ='==DUCK by BLIND=='!F51 -> 210 | F6: ='==GOOSE by BLIND=='!F51 -> 7 | G6: =E6/D6 -> 2.8767123 | H6: =F6/D6 -> 0.095890411 | I6: =(E6+F6)/D6 -> 2.9726027
A7: C1 | B7: Slough | C7: East Slough | D7: ='==HUNTER by BLIND=='!G50 -> 6 | E7: ='==DUCK by BLIND=='!G51 -> 0 | F7: ='==GOOSE by BLIND=='!G51 -> 0 | G7: =E7/D7 -> 0 | H7: =F7/D7 -> 0 | I7: =(E7+F7)/D7 -> 0
A8: C2 | B8: Slough | C8: West Slough | D8: ='==HUNTER by BLIND=='!H50 -> 43 | E8: ='==DUCK by BLIND=='!H51 -> 81 | F8: ='==GOOSE by BLIND=='!H51 -> 2 | G8: =E8/D8 -> 1.8837209 | H8: =F8/D8 -> 0.046511628 | I8: =(E8+F8)/D8 -> 1.9302326
A9: C3 | B9: Slough | C9: West Slough | D9: ='==HUNTER by BLIND=='!I50 -> 99 | E9: ='==DUCK by BLIND=='!I51 -> 293 | F9: ='==GOOSE by BLIND=='!I51 -> 3 | G9: =E9/D9 -> 2.959596 | H9: =F9/D9 -> 0.03030303 | I9: =(E9+F9)/D9 -> 2.989899
A10: C4 | B10: Slough | C10: West Slough | D10: ='==HUNTER by BLIND=='!J50 -> 54 | E10: ='==DUCK by BLIND=='!J51 -> 129 | F10: ='==GOOSE by BLIND=='!J51 -> 0 | G10: =E10/D10 -> 2.3888889 | H10: =F10/D10 -> 0 | I10: =(E10+F10)/D10 -> 2.3888889
A11: F1 | B11: Slough | C11: East Slough | D11: ='==HUNTER by BLIND=='!K50 -> 71 | E11: ='==DUCK by BLIND=='!K51 -> 200 | F11: ='==GOOSE by BLIND=='!K51 -> 2 | G11: =E11/D11 -> 2.8169014 | H11: =F11/D11 -> 0.028169014 | I11: =(E11+F11)/D11 -> 2.8450704
A12: F2 | B12: Slough | C12: East Slough | D12: ='==HUNTER by BLIND=='!L50 -> 15 | E12: ='==DUCK by BLIND=='!L51 -> 7 | F12: ='==GOOSE by BLIND=='!L51 -> 0 | G12: =E12/D12 -> 0.46666667 | H12: =F12/D12 -> 0 | I12: =(E12+F12)/D12 -> 0.46666667
A13: H1 | B13: Slough | C13: West Slough | D13: ='==HUNTER by BLIND=='!M50 -> 45 | E13: ='==DUCK by BLIND=='!M51 -> 70 | F13: ='==GOOSE by BLIND=='!M51 -> 7 | G13: =E13/D13 -> 1.5555556 | H13: =F13/D13 -> 0.15555556 | I13: =(E13+F13)/D13 -> 1.7111111
A14: I1 | B14: Slough | C14: West Slough | D14: ='==HUNTER by BLIND=='!N50 -> 73 | E14: ='==DUCK by BLIND=='!N51 -> 109 | F14: ='==GOOSE by BLIND=='!N51 -> 3 | G14: =E14/D14 -> 1.4931507 | H14: =F14/D14 -> 0.04109589 | I14: =(E14+F14)/D14 -> 1.5342466
A15: J1 | B15: Slough | C15: West Slough | D15: ='==HUNTER by BLIND=='!O50 -> 36 | E15: ='==DUCK by BLIND=='!O51 -> 57 | F15: ='==GOOSE by BLIND=='!O51 -> 0 | G15: =E15/D15 -> 1.5833333 | H15: =F15/D15 -> 0 | I15: =(E15+F15)/D15 -> 1.5833333
A16: J2 | B16: Slough | C16: West Slough | D16: ='==HUNTER by BLIND=='!P50 -> 11 | E16: ='==DUCK by BLIND=='!P51 -> 7 | F16: ='==GOOSE by BLIND=='!P51 -> 0 | G16: =E16/D16 -> 0.63636364 | H16: =F16/D16 -> 0 | I16: =(E16+F16)/D16 -> 0.63636364
A17: 01 | B17: River | C17: North River | D17: ='==HUNTER by BLIND=='!Q50 -> 76 | E17: ='==DUCK by BLIND=='!Q51 -> 116 | F17: ='==GOOSE by BLIND=='!Q51 -> 5 | G17: =E17/D17 -> 1.5263158 | H17: =F17/D17 -> 0.065789474 | I17: =(E17+F17)/D17 -> 1.5921053
A18: 02 | B18: River | C18: North River | D18: ='==HUNTER by BLIND=='!R50 -> 132 | E18: ='==DUCK by BLIND=='!R51 -> 394 | F18: ='==GOOSE by BLIND=='!R51 -> 21 | G18: =E18/D18 -> 2.9848485 | H18: =F18/D18 -> 0.15909091 | I18: =(E18+F18)/D18 -> 3.1439394
A19: 03 | B19: River | C19: North River | D19: ='==HUNTER by BLIND=='!S50 -> 166 | E19: ='==DUCK by BLIND=='!S51 -> 695 | F19: ='==GOOSE by BLIND=='!S51 -> 29 | G19: =E19/D19 -> 4.186747 | H19: =F19/D19 -> 0.1746988 | I19: =(E19+F19)/D19 -> 4.3614458
A20: 04 | B20: Pond | C20: North Pond | D20: ='==HUNTER by BLIND=='!T50 -> 6 | E20: ='==DUCK by BLIND=='!T51 -> 2 | F20: ='==GOOSE by BLIND=='!T51 -> 0 | G20: =E20/D20 -> 0.33333333 | H20: =F20/D20 -> 0 | I20: =(E20+F20)/D20 -> 0.33333333
A21: 12 | B21: River | C21: East River | D21: ='==HUNTER by BLIND=='!U50 -> 119 | E21: ='==DUCK by BLIND=='!U51 -> 333 | F21: ='==GOOSE by BLIND=='!U51 -> 12 | G21: =E21/D21 -> 2.7983193 | H21: =F21/D21 -> 0.10084034 | I21: =(E21+F21)/D21 -> 2.8991597
A22: 13 | B22: River | C22: East River | D22: ='==HUNTER by BLIND=='!V50 -> 37 | E22: ='==DUCK by BLIND=='!V51 -> 43 | F22: ='==GOOSE by BLIND=='!V51 -> 0 | G22: =E22/D22 -> 1.1621622 | H22: =F22/D22 -> 0 | I22: =(E22+F22)/D22 -> 1.1621622
A23: 14 | B23: River | C23: East River | D23: ='==HUNTER by BLIND=='!W50 -> 105 | E23: ='==DUCK by BLIND=='!W51 -> 261 | F23: ='==GOOSE by BLIND=='!W51 -> 13 | G23: =E23/D23 -> 2.4857143 | H23: =F23/D23 -> 0.12380952 | I23: =(E23+F23)/D23 -> 2.6095238
A24: 15 | B24: River | C24: East River | D24: ='==HUNTER by BLIND=='!X50 -> 95 | E24: ='==DUCK by BLIND=='!X51 -> 216 | F24: ='==GOOSE by BLIND=='!X51 -> 44 | G24: =E24/D24 -> 2.2736842 | H24: =F24/D24 -> 0.46315789 | I24: =(E24+F24)/D24 -> 2.7368421
A25: 16 | B25: River | C25: West River | D25: ='==HUNTER by BLIND=='!Y50 -> 16 | E25: ='==DUCK by BLIND=='!Y51 -> 13 | F25: ='==GOOSE by BLIND=='!Y51 -> 3 | G25: =E25/D25 -> 0.8125 | H25: =F25/D25 -> 0.1875 | I25: =(E25+F25)/D25 -> 1
A26: 17 | B26: River | C26: West River | D26: ='==HUNTER by BLIND=='!Z50 -> 15 | E26: ='==DUCK by BLIND=='!Z51 -> 16 | F26: ='==GOOSE by BLIND=='!Z51 -> 4 | G26: =E26/D26 -> 1.0666667 | H26: =F26/D26 -> 0.26666667 | I26: =(E26+F26)/D26 -> 1.3333333
A27: 18 | B27: River | C27: West River | D27: ='==HUNTER by BLIND=='!AA50 -> 5 | E27: ='==DUCK by BLIND=='!AA51 -> 6 | F27: ='==GOOSE by BLIND=='!AA51 -> 0 | G27: =E27/D27 -> 1.2 | H27: =F27/D27 -> 0 | I27: =(E27+F27)/D27 -> 1.2
A28: 19 | B28: River | C28: West River | D28: ='==HUNTER by BLIND=='!AB50 -> 17 | E28: ='==DUCK by BLIND=='!AB51 -> 12 | F28: ='==GOOSE by BLIND=='!AB51 -> 6 | G28: =E28/D28 -> 0.70588235 | H28: =F28/D28 -> 0.35294118 | I28: =(E28+F28)/D28 -> 1.0588235
A29: 20 | B29: River | C29: West River | D29: ='==HUNTER by BLIND=='!AC50 -> 25 | E29: ='==DUCK by BLIND=='!AC51 -> 23 | F29: ='==GOOSE by BLIND=='!AC51 -> 1 | G29: =E29/D29 -> 0.92 | H29: =F29/D29 -> 0.04 | I29: =(E29+F29)/D29 -> 0.96
A30: 21 | B30: River | C30: West River | D30: ='==HUNTER by BLIND=='!AD50 -> 49 | E30: ='==DUCK by BLIND=='!AD51 -> 81 | F30: ='==GOOSE by BLIND=='!AD51 -> 11 | G30: =E30/D30 -> 1.6530612 | H30: =F30/D30 -> 0.2244898 | I30: =(E30+F30)/D30 -> 1.877551
A31: 22 | B31: River | C31: West River | D31: ='==HUNTER by BLIND=='!AE50 -> 21 | E31: ='==DUCK by BLIND=='!AE51 -> 26 | F31: ='==GOOSE by BLIND=='!AE51 -> 2 | G31: =E31/D31 -> 1.2380952 | H31: =F31/D31 -> 0.095238095 | I31: =(E31+F31)/D31 -> 1.3333333
A32: 40 | B32: Field | C32: C5 | D32: ='==HUNTER by BLIND=='!AF50 -> 18 | E32: ='==DUCK by BLIND=='!AF51 -> 26 | F32: ='==GOOSE by BLIND=='!AF51 -> 7 | G32: =E32/D32 -> 1.4444444 | H32: =F32/D32 -> 0.38888889 | I32: =(E32+F32)/D32 -> 1.8333333
A33: 41 | B33: Field | C33: C5 | D33: ='==HUNTER by BLIND=='!AG50 -> 41 | E33: ='==DUCK by BLIND=='!AG51 -> 31 | F33: ='==GOOSE by BLIND=='!AG51 -> 35 | G33: =E33/D33 -> 0.75609756 | H33: =F33/D33 -> 0.85365854 | I33: =(E33+F33)/D33 -> 1.6097561
A34: 42 | B34: Field | C34: C3 | D34: ='==HUNTER by BLIND=='!AH50 -> 31 | E34: ='==DUCK by BLIND=='!AH51 -> 57 | F34: ='==GOOSE by BLIND=='!AH51 -> 20 | G34: =E34/D34 -> 1.8387097 | H34: =F34/D34 -> 0.64516129 | I34: =(E34+F34)/D34 -> 2.483871
A35: 43 | B35: Field | C35: C3 | D35: ='==HUNTER by BLIND=='!AI50 -> 35 | E35: ='==DUCK by BLIND=='!AI51 -> 23 | F35: ='==GOOSE by BLIND=='!AI51 -> 27 | G35: =E35/D35 -> 0.65714286 | H35: =F35/D35 -> 0.77142857 | I35: =(E35+F35)/D35 -> 1.4285714
A36: 44 | B36: Field | C36: C2 | D36: ='==HUNTER by BLIND=='!AJ50 -> 0 | E36: ='==DUCK by BLIND=='!AJ51 -> 0 | F36: ='==GOOSE by BLIND=='!AJ51 -> 0 | G36: N/A | H36: N/A | I36: N/A
A37: 45 | B37: Field | C37: C2 | D37: ='==HUNTER by BLIND=='!AK50 -> 0 | E37: ='==DUCK by BLIND=='!AK51 -> 0 | F37: ='==GOOSE by BLIND=='!AK51 -> 0 | G37: N/A | H37: N/A | I37: N/A
A38: 46 | B38: Field | C38: C1 | D38: ='==HUNTER by BLIND=='!AL50 -> 49 | E38: ='==DUCK by BLIND=='!AL51 -> 33 | F38: ='==GOOSE by BLIND=='!AL51 -> 36 | G38: =E38/D38 -> 0.67346939 | H38: =F38/D38 -> 0.73469388 | I38: =(E38+F38)/D38 -> 1.4081633
A39: 47 | B39: Field | C39: C1 | D39: ='==HUNTER by BLIND=='!AM50 -> 49 | E39: ='==DUCK by BLIND=='!AM51 -> 40 | F39: ='==GOOSE by BLIND=='!AM51 -> 37 | G39: =E39/D39 -> 0.81632653 | H39: =F39/D39 -> 0.75510204 | I39: =(E39+F39)/D39 -> 1.5714286
A40: 48 | B40: Field | C40: C4 | D40: ='==HUNTER by BLIND=='!AN50 -> 4 | E40: ='==DUCK by BLIND=='!AN51 -> 6 | F40: ='==GOOSE by BLIND=='!AN51 -> 1 | G40: =E40/D40 -> 1.5 | H40: =F40/D40 -> 0.25 | I40: =(E40+F40)/D40 -> 1.75
...
